BEGIN:VCALENDAR
VERSION:2.0
PRODID:-//The Episcopal Diocese of Louisiana - ECPv6.15.20//NONSGML v1.0//EN
CALSCALE:GREGORIAN
METHOD:PUBLISH
X-WR-CALNAME:The Episcopal Diocese of Louisiana
X-ORIGINAL-URL:https://www.edola.org
X-WR-CALDESC:Events for The Episcopal Diocese of Louisiana
REFRESH-INTERVAL;VALUE=DURATION:PT1H
X-Robots-Tag:noindex
X-PUBLISHED-TTL:PT1H
BEGIN:VTIMEZONE
TZID:America/Chicago
BEGIN:DAYLIGHT
TZOFFSETFROM:-0600
TZOFFSETTO:-0500
TZNAME:CDT
DTSTART:20240310T080000
END:DAYLIGHT
BEGIN:STANDARD
TZOFFSETFROM:-0500
TZOFFSETTO:-0600
TZNAME:CST
DTSTART:20241103T070000
END:STANDARD
BEGIN:DAYLIGHT
TZOFFSETFROM:-0600
TZOFFSETTO:-0500
TZNAME:CDT
DTSTART:20250309T080000
END:DAYLIGHT
BEGIN:STANDARD
TZOFFSETFROM:-0500
TZOFFSETTO:-0600
TZNAME:CST
DTSTART:20251102T070000
END:STANDARD
BEGIN:DAYLIGHT
TZOFFSETFROM:-0600
TZOFFSETTO:-0500
TZNAME:CDT
DTSTART:20260308T080000
END:DAYLIGHT
BEGIN:STANDARD
TZOFFSETFROM:-0500
TZOFFSETTO:-0600
TZNAME:CST
DTSTART:20261101T070000
END:STANDARD
END:VTIMEZONE
BEGIN:VEVENT
DTSTART;TZID=America/Chicago:20251211T090000
DTEND;TZID=America/Chicago:20251211T140000
DTSTAMP:20260420T100013
CREATED:20251113T195436Z
LAST-MODIFIED:20251114T184600Z
UID:145836-1765443600-1765461600@www.edola.org
SUMMARY:An Advent Perspective: A Woman's Sacred "Yes!" to Spiritual Journeys of Courage
DESCRIPTION:Second Thursday Women Gather in Community  \nLed by The Rev. Annie Knazs Jung\, Rector of St. Andrew’s Episcopal Church & School\, New Orleans \nJoin Rev. Annie Knazs Jung as we explore several women’s courageous spiritual journeys\, including Mary & Elizabeth\, in the lens of Advent Season. Rev. Annie will also share her recent experience of traveling the Camino de Santiago as a solo spiritual pilgrimage- backpacking 115km through Spain\, following the Way of St. James. Lastly\, all attendees will have time to reflect on spiritual journeys they have been on or are discerning embarking on — one courageous step\, one sacred “Yes!” at a time. \nRegister HERE.
URL:https://www.edola.org/event/second-thursday-women-gather-in-community-an-advent-perspective-a-womans-sacred-yes-to-spiritual-journeys-of-courage/
LOCATION:Solomon Center\, 54296 LA-445\, Loranger\, LA\, 70446\, United States
CATEGORIES:Retreats,Solomon Center Events
ATTACH;FMTTYPE=image/jpeg:https://www.edola.org/wp-content/uploads/2025/10/Women-Gather.jpg
END:VEVENT
END:VCALENDAR