BEGIN:VCALENDAR
VERSION:2.0
PRODID:-//The Episcopal Diocese of Louisiana - ECPv6.15.20//NONSGML v1.0//EN
CALSCALE:GREGORIAN
METHOD:PUBLISH
X-WR-CALNAME:The Episcopal Diocese of Louisiana
X-ORIGINAL-URL:https://www.edola.org
X-WR-CALDESC:Events for The Episcopal Diocese of Louisiana
REFRESH-INTERVAL;VALUE=DURATION:PT1H
X-Robots-Tag:noindex
X-PUBLISHED-TTL:PT1H
BEGIN:VTIMEZONE
TZID:America/Chicago
BEGIN:DAYLIGHT
TZOFFSETFROM:-0600
TZOFFSETTO:-0500
TZNAME:CDT
DTSTART:20250309T080000
END:DAYLIGHT
BEGIN:STANDARD
TZOFFSETFROM:-0500
TZOFFSETTO:-0600
TZNAME:CST
DTSTART:20251102T070000
END:STANDARD
BEGIN:DAYLIGHT
TZOFFSETFROM:-0600
TZOFFSETTO:-0500
TZNAME:CDT
DTSTART:20260308T080000
END:DAYLIGHT
BEGIN:STANDARD
TZOFFSETFROM:-0500
TZOFFSETTO:-0600
TZNAME:CST
DTSTART:20261101T070000
END:STANDARD
BEGIN:DAYLIGHT
TZOFFSETFROM:-0600
TZOFFSETTO:-0500
TZNAME:CDT
DTSTART:20270314T080000
END:DAYLIGHT
BEGIN:STANDARD
TZOFFSETFROM:-0500
TZOFFSETTO:-0600
TZNAME:CST
DTSTART:20271107T070000
END:STANDARD
END:VTIMEZONE
BEGIN:VEVENT
DTSTART;TZID=America/Chicago:20260119T093000
DTEND;TZID=America/Chicago:20260119T130000
DTSTAMP:20260422T083545
CREATED:20251218T020333Z
LAST-MODIFIED:20260114T152042Z
UID:146443-1768815000-1768827600@www.edola.org
SUMMARY:Rev. Dr. MLK Jr Day of Service
DESCRIPTION:“Life’s most persistent and urgent question is\, ‘What are you doing for others?’” – Rev. Dr. Martin Luther King Jr.To honor Rev. Dr. King’s legacy\, mission\, and work\, join Episcopalians across Louisiana for meaningful\, hands-on service. \nThe Chapel of the Holy Spirit\, New Orleans\n1100 Broadway St\, New Orleans\, LA 70118 \nNo registration required. All ages and abilities welcome. Bring your hands\, your heart\, and your commitment to building the Beloved Community. \nWays to participate:\nMinistry donation opportunity:\n You can help meet our event needs by purchasing items from our Amazon Wishlist. It’s a meaningful way to contribute\, especially if you can’t attend in person: \nMinistry stations:\n \n\nHygiene Bags – St. George’s\, NOLA (Link to Amazon Wishlist)\nWeaving mats for the unhoused – St. Paul’s\, NOLA (bring plastic shopping bags)\nFood Pantry – Historic St. Luke’s\nSummer Children’s Book Program (All ages) – Historic St. Luke’s\nKairos Prison Ministry: creating and coloring posters in addition to writing note cards with encouraging\, hopeful messages\, scripture references\, etc. Our results will be given to both Kairos ministries – (1) women inside the prison walls and (2) female family members and friends on the outside who have loved ones in prison. \nNonprofit Animal Shelter – Must Luv Dogs dog rescue from Zachary will be sharing opportunities to serve and accepting donations of kibble\, treats\, and toys for their foster dogs. Learn more at mustluvdogs.org.\nEnvironmental Evangelism Commission – requesting shovels of all sizes\, cultivators\, pine straw\, and especially trimming and pruning tools!
URL:https://www.edola.org/event/rev-dr-mlk-day-of-service/
LOCATION:Chapel of the Holy Spirit\, 1100 Broadway St\, New Orleans\, LA\, 70119
CATEGORIES:Diocesan Events,Gaudet Ministries Events,New Orleans Area
ATTACH;FMTTYPE=image/jpeg:https://www.edola.org/wp-content/uploads/2025/11/2026-MLK-Calendar-1200-x-675-px.jpg
END:VEVENT
END:VCALENDAR