BEGIN:VCALENDAR
VERSION:2.0
PRODID:-//The Episcopal Diocese of Louisiana - ECPv6.15.20//NONSGML v1.0//EN
CALSCALE:GREGORIAN
METHOD:PUBLISH
X-WR-CALNAME:The Episcopal Diocese of Louisiana
X-ORIGINAL-URL:https://www.edola.org
X-WR-CALDESC:Events for The Episcopal Diocese of Louisiana
REFRESH-INTERVAL;VALUE=DURATION:PT1H
X-Robots-Tag:noindex
X-PUBLISHED-TTL:PT1H
BEGIN:VTIMEZONE
TZID:America/Chicago
BEGIN:DAYLIGHT
TZOFFSETFROM:-0600
TZOFFSETTO:-0500
TZNAME:CDT
DTSTART:20250309T080000
END:DAYLIGHT
BEGIN:STANDARD
TZOFFSETFROM:-0500
TZOFFSETTO:-0600
TZNAME:CST
DTSTART:20251102T070000
END:STANDARD
BEGIN:DAYLIGHT
TZOFFSETFROM:-0600
TZOFFSETTO:-0500
TZNAME:CDT
DTSTART:20260308T080000
END:DAYLIGHT
BEGIN:STANDARD
TZOFFSETFROM:-0500
TZOFFSETTO:-0600
TZNAME:CST
DTSTART:20261101T070000
END:STANDARD
BEGIN:DAYLIGHT
TZOFFSETFROM:-0600
TZOFFSETTO:-0500
TZNAME:CDT
DTSTART:20270314T080000
END:DAYLIGHT
BEGIN:STANDARD
TZOFFSETFROM:-0500
TZOFFSETTO:-0600
TZNAME:CST
DTSTART:20271107T070000
END:STANDARD
END:VTIMEZONE
BEGIN:VEVENT
DTSTART;VALUE=DATE:20260306
DTEND;VALUE=DATE:20260308
DTSTAMP:20260424T023728
CREATED:20251112T205418Z
LAST-MODIFIED:20251217T154558Z
UID:145748-1772755200-1772927999@www.edola.org
SUMMARY:Jackson\, MS Pilgrimage
DESCRIPTION:EDOLA invites you to join a pilgrimage to Jackson\, Mississippi—a city that stood at the heart of both the Jim Crow South and the Civil Rights Movement. Together\, we’ll journey through our shared history and reflect on what it means for us today as citizens and children of God. \nOur pilgrimage includes visits to the Museum of Mississippi History and the Mississippi Civil Rights Museum. We’ll also be welcomed into courageous conversations by the faithful community at St. James Episcopal Church\, the home church of our own Bishop Duckworth! \nThis isn’t just about looking back—it’s about understanding how the past shapes us now and discerning how we can move forward in faith\, justice\, and love.  \nRegister HERE \nCost: $75/person – includes transportation\, dinner on Friday evening\, full programming \nMuseum: Two Mississippi Museums. \nTransportation — Charter Bus\, leaving from TWO locations:\nNorthshore – St. Michael’s\, Mandeville\nNOLA – Diocesan Office \nHotel: Homewood Suites\, Fondren – We have a room block for our group but you must book on your own.  \nMeals: Breakfast included with hotel. Lunch on your own. We suggest packing a lunch for Friday. There is a cafe on-site of the museum. Also\, the hotel rooms do have a full kitchenette with fridge. \nYouth Age Recommendations: Grades 3-12
URL:https://www.edola.org/event/jackson-ms-pilgrimage/
LOCATION:LA
CATEGORIES:Gaudet Ministries Events,Racial Healing
ATTACH;FMTTYPE=image/jpeg:https://www.edola.org/wp-content/uploads/2025/11/Pilgrimage-Calendar-1200-x-675-px.jpg
END:VEVENT
END:VCALENDAR