BEGIN:VCALENDAR
VERSION:2.0
PRODID:-//The Episcopal Diocese of Louisiana - ECPv6.15.20//NONSGML v1.0//EN
CALSCALE:GREGORIAN
METHOD:PUBLISH
X-ORIGINAL-URL:https://www.edola.org
X-WR-CALDESC:Events for The Episcopal Diocese of Louisiana
REFRESH-INTERVAL;VALUE=DURATION:PT1H
X-Robots-Tag:noindex
X-PUBLISHED-TTL:PT1H
BEGIN:VTIMEZONE
TZID:America/Chicago
BEGIN:DAYLIGHT
TZOFFSETFROM:-0600
TZOFFSETTO:-0500
TZNAME:CDT
DTSTART:20250309T080000
END:DAYLIGHT
BEGIN:STANDARD
TZOFFSETFROM:-0500
TZOFFSETTO:-0600
TZNAME:CST
DTSTART:20251102T070000
END:STANDARD
BEGIN:DAYLIGHT
TZOFFSETFROM:-0600
TZOFFSETTO:-0500
TZNAME:CDT
DTSTART:20260308T080000
END:DAYLIGHT
BEGIN:STANDARD
TZOFFSETFROM:-0500
TZOFFSETTO:-0600
TZNAME:CST
DTSTART:20261101T070000
END:STANDARD
BEGIN:DAYLIGHT
TZOFFSETFROM:-0600
TZOFFSETTO:-0500
TZNAME:CDT
DTSTART:20270314T080000
END:DAYLIGHT
BEGIN:STANDARD
TZOFFSETFROM:-0500
TZOFFSETTO:-0600
TZNAME:CST
DTSTART:20271107T070000
END:STANDARD
END:VTIMEZONE
BEGIN:VEVENT
DTSTART;TZID=America/Chicago:20260426T170000
DTEND;TZID=America/Chicago:20260426T180000
DTSTAMP:20260424T023130
CREATED:20260327T172845Z
LAST-MODIFIED:20260415T203544Z
UID:147231-1777222800-1777226400@www.edola.org
SUMMARY:Gaudet Evensong
DESCRIPTION:We celebrate and honor the children of our community—their joy\, promise\, and unfolding stories—and the extraordinary work of the organizations who nurture their futures. Join us for a meaningful and uplifting service.
URL:https://www.edola.org/event/gaudet-evensong/
LOCATION:Historic St. Luke’s Episcopal Church\, 1222 N. Dorgenois St\, New Orleans\, LA\, 70119\, United States
CATEGORIES:Diocesan Events,New Orleans Area,Parish Events
ATTACH;FMTTYPE=image/png:https://www.edola.org/wp-content/uploads/2026/03/Calendar-Template-1200-x-675-px-1.png
END:VEVENT
END:VCALENDAR